BEGIN:VCALENDAR
VERSION:2.0
PRODID:https://github.com/derhansen/sf_event_mgt
METHOD:PUBLISH
BEGIN:VEVENT
UID:387-148@sems.ch
CLASS: PUBLIC
SUMMARY:1st Swiss safeguarding in sports conference
DESCRIPTION:Our societies share common values and shaped a joint vision: «A
 ll Swiss athletes can participate in their sport in the best possible physi
 cal and psychological health; they can aim for athletic performance with pa
 ssion and fun at the centre, and are well protected from harassment and abu
 se.»
DTSTAMP:20211109T104923Z
DTSTART:20211203T112300Z
END:VEVENT
END:VCALENDAR
