BEGIN:VCALENDAR
VERSION:2.0
PRODID:https://github.com/derhansen/sf_event_mgt
METHOD:PUBLISH
BEGIN:VEVENT
UID:747-148@sems.ch
CLASS: PUBLIC
SUMMARY:28ème séminaire de médecine du sport et de l’exercice: Au cœur du d
 opage, en un tour de main, les malaises du tube digestif
DESCRIPTION:
LOCATION:Punta Cana
DTSTAMP:20260423T115458Z
DTSTART:20260509T115200Z
DTEND:20260517T125200Z
END:VEVENT
END:VCALENDAR
