BEGIN:VCALENDAR
VERSION:2.0
PRODID:https://github.com/derhansen/sf_event_mgt
METHOD:PUBLISH
BEGIN:VEVENT
UID:304-148@sems.ch
CLASS: PUBLIC
SUMMARY:9. Sportmedizin-Winter-Workshop 2021
DESCRIPTION:
LOCATION:Teneriffa
DTSTAMP:20201104T110411Z
DTSTART:20210306T174600Z
DTEND:20210313T184600Z
END:VEVENT
END:VCALENDAR
