BEGIN:VCALENDAR
VERSION:2.0
PRODID:https://github.com/derhansen/sf_event_mgt
METHOD:PUBLISH
BEGIN:VEVENT
UID:78-148@sems.ch
CLASS: PUBLIC
SUMMARY:CAS Sporternährung - Modul 3
DESCRIPTION:
LOCATION:Magglingen
DTSTAMP:20190501T090310Z
DTSTART:20200130T093200Z
DTEND:20200201T093200Z
END:VEVENT
END:VCALENDAR
