BEGIN:VCALENDAR
VERSION:2.0
PRODID:https://github.com/derhansen/sf_event_mgt
METHOD:PUBLISH
BEGIN:VEVENT
UID:188-148@sems.ch
CLASS: PUBLIC
SUMMARY:Chirurgie LCA: Notre expérience du test de retour au sport
DESCRIPTION:
LOCATION:Lausanne
DTSTAMP:20210809T092552Z
DTSTART:20190925T113800Z
DTEND:20190925T092300Z
END:VEVENT
END:VCALENDAR
