BEGIN:VCALENDAR
VERSION:2.0
PRODID:https://github.com/derhansen/sf_event_mgt
METHOD:PUBLISH
BEGIN:VEVENT
UID:242-148@sems.ch
CLASS: PUBLIC
SUMMARY:Colloque de médecine du sport: La couse à pied, au rythme de ma mon
 tre
DESCRIPTION:
LOCATION:Genève
DTSTAMP:20210809T095058Z
DTSTART:20200312T110100Z
DTEND:20200312T105000Z
END:VEVENT
END:VCALENDAR
