BEGIN:VCALENDAR
VERSION:2.0
PRODID:https://github.com/derhansen/sf_event_mgt
METHOD:PUBLISH
BEGIN:VEVENT
UID:395-148@sems.ch
CLASS: PUBLIC
SUMMARY:Formation Post-Graduee MPR - Ages extrêmes de la vie et MPR
DESCRIPTION:
DTSTAMP:20211130T125244Z
DTSTART:20211216T112300Z
END:VEVENT
END:VCALENDAR
