BEGIN:VCALENDAR
VERSION:2.0
PRODID:https://github.com/derhansen/sf_event_mgt
METHOD:PUBLISH
BEGIN:VEVENT
UID:735-148@sems.ch
CLASS: PUBLIC
SUMMARY:Jahrestagung der Swiss Sports Nutrition Society
DESCRIPTION:
LOCATION:Haus des Sports, Ittigen b. Bern
DTSTAMP:20260318T193022Z
DTSTART:20260611T182800Z
DTEND:20260611T192800Z
END:VEVENT
END:VCALENDAR
