BEGIN:VCALENDAR
VERSION:2.0
PRODID:https://github.com/derhansen/sf_event_mgt
METHOD:PUBLISH
BEGIN:VEVENT
UID:440-148@sems.ch
CLASS: PUBLIC
SUMMARY:Les beaux yeux du sport
DESCRIPTION:
LOCATION:Lausanne
DTSTAMP:20220822T110759Z
DTSTART:20220922T110000Z
END:VEVENT
END:VCALENDAR
