BEGIN:VCALENDAR
VERSION:2.0
PRODID:https://github.com/derhansen/sf_event_mgt
METHOD:PUBLISH
BEGIN:VEVENT
UID:603-148@sems.ch
CLASS: PUBLIC
SUMMARY:Medical Emergency Management in Sport
DESCRIPTION:
LOCATION:Lausanne
DTSTAMP:20240828T135002Z
DTSTART:20240921T060000Z
DTEND:20240923T150000Z
END:VEVENT
END:VCALENDAR
