BEGIN:VCALENDAR
VERSION:2.0
PRODID:https://github.com/derhansen/sf_event_mgt
METHOD:PUBLISH
BEGIN:VEVENT
UID:607-148@sems.ch
CLASS: PUBLIC
SUMMARY:MyoFasziale Triggerpunkt-Therapie A2 Kurs
DESCRIPTION:
LOCATION:Murten
DTSTAMP:20250505T145341Z
DTSTART:20250821T060000Z
DTEND:20250824T130000Z
END:VEVENT
END:VCALENDAR
