BEGIN:VCALENDAR
VERSION:2.0
PRODID:https://github.com/derhansen/sf_event_mgt
METHOD:PUBLISH
BEGIN:VEVENT
UID:158-148@sems.ch
CLASS: PUBLIC
SUMMARY:Orthopedics Update: Frakturen des Schultergürtels
DESCRIPTION:
LOCATION:Zürich
DTSTAMP:20210809T093851Z
DTSTART:20191024T145000Z
DTEND:20191024T093800Z
END:VEVENT
END:VCALENDAR
