BEGIN:VCALENDAR
VERSION:2.0
PRODID:https://github.com/derhansen/sf_event_mgt
METHOD:PUBLISH
BEGIN:VEVENT
UID:48-148@sems.ch
CLASS: PUBLIC
SUMMARY:Preventive cardiology, cardiac rehabilitation & sports cardiology
DESCRIPTION:
LOCATION:Bern
DTSTAMP:20190403T134642Z
DTSTART:20190624T094000Z
DTEND:20190627T094000Z
END:VEVENT
END:VCALENDAR
