BEGIN:VCALENDAR
VERSION:2.0
PRODID:https://github.com/derhansen/sf_event_mgt
METHOD:PUBLISH
BEGIN:VEVENT
UID:592-148@sems.ch
CLASS: PUBLIC
SUMMARY:SAGOM - Funktionale Techniken 2
DESCRIPTION:
LOCATION:Diessenhofen
DTSTAMP:20240805T131014Z
DTSTART:20241024T070000Z
END:VEVENT
END:VCALENDAR
