BEGIN:VCALENDAR
VERSION:2.0
PRODID:https://github.com/derhansen/sf_event_mgt
METHOD:PUBLISH
BEGIN:VEVENT
UID:10-148@sems.ch
CLASS: PUBLIC
SUMMARY:SAMM Jahreskongress
DESCRIPTION:
LOCATION:Interlaken
DTSTAMP:20181105T110615Z
DTSTART:20181129T132900Z
DTEND:20181201T132900Z
END:VEVENT
END:VCALENDAR
