BEGIN:VCALENDAR
VERSION:2.0
PRODID:https://github.com/derhansen/sf_event_mgt
METHOD:PUBLISH
BEGIN:VEVENT
UID:300-148@sems.ch
CLASS: PUBLIC
SUMMARY:SEMS Online Congress 2020
DESCRIPTION:
DTSTAMP:20210809T125837Z
DTSTART:20201029T130000Z
DTEND:20201029T135800Z
END:VEVENT
END:VCALENDAR
