BEGIN:VCALENDAR
VERSION:2.0
PRODID:https://github.com/derhansen/sf_event_mgt
METHOD:PUBLISH
BEGIN:VEVENT
UID:178-148@sems.ch
CLASS: PUBLIC
SUMMARY:SGSM/SSMS Students Day 2019
DESCRIPTION:
LOCATION:Interlaken
DTSTAMP:20210809T093759Z
DTSTART:20191023T130100Z
DTEND:20191023T093700Z
END:VEVENT
END:VCALENDAR
