BEGIN:VCALENDAR
VERSION:2.0
PRODID:https://github.com/derhansen/sf_event_mgt
METHOD:PUBLISH
BEGIN:VEVENT
UID:258-148@sems.ch
CLASS: PUBLIC
SUMMARY:Sport und Schwangerschaft
DESCRIPTION:
LOCATION:Zürich
DTSTAMP:20210809T124602Z
DTSTART:20200514T130900Z
DTEND:20200514T124500Z
END:VEVENT
END:VCALENDAR
