BEGIN:VCALENDAR
VERSION:2.0
PRODID:https://github.com/derhansen/sf_event_mgt
METHOD:PUBLISH
BEGIN:VEVENT
UID:550-148@sems.ch
CLASS: PUBLIC
SUMMARY:Symposium - Urgences en Médecine et Traumatologie du Sportif
DESCRIPTION:
LOCATION:Genève
DTSTAMP:20240201T151252Z
DTSTART:20240208T151100Z
END:VEVENT
END:VCALENDAR
