BEGIN:VCALENDAR
VERSION:2.0
PRODID:https://github.com/derhansen/sf_event_mgt
METHOD:PUBLISH
BEGIN:VEVENT
UID:144-148@sems.ch
CLASS: PUBLIC
SUMMARY:17. SVSP Symposium "Shoulder & Sport"
DESCRIPTION:
LOCATION:Bern
DTSTAMP:20210809T094459Z
DTSTART:20191122T111500Z
DTEND:20191122T104400Z
END:VEVENT
END:VCALENDAR
