BEGIN:VCALENDAR
VERSION:2.0
PRODID:https://github.com/derhansen/sf_event_mgt
METHOD:PUBLISH
BEGIN:VEVENT
UID:212-148@sems.ch
CLASS: PUBLIC
SUMMARY:22. Fortbildungstagung des Kollegiums für Hausarztmedizin (KHM)
DESCRIPTION:
LOCATION:Luzern
DTSTAMP:20241216T140826Z
DTSTART:20201104T081600Z
DTEND:20201105T081600Z
END:VEVENT
END:VCALENDAR
