BEGIN:VCALENDAR
VERSION:2.0
PRODID:https://github.com/derhansen/sf_event_mgt
METHOD:PUBLISH
BEGIN:VEVENT
UID:467-148@sems.ch
CLASS: PUBLIC
SUMMARY:25. Fortbildungstagung des Kollegiums für Hausarztmedizin (KHM)
DESCRIPTION:
LOCATION:Luzern
DTSTAMP:20230203T150023Z
DTSTART:20230622T114600Z
DTEND:20230623T124600Z
END:VEVENT
END:VCALENDAR
