BEGIN:VCALENDAR
VERSION:2.0
PRODID:https://github.com/derhansen/sf_event_mgt
METHOD:PUBLISH
BEGIN:VEVENT
UID:264-148@sems.ch
CLASS: PUBLIC
SUMMARY:34. Mediweek Davos 2020
DESCRIPTION:
LOCATION:Davos
DTSTAMP:20200716T121940Z
DTSTART:20200627T124100Z
DTEND:20200703T124100Z
END:VEVENT
END:VCALENDAR
