BEGIN:VCALENDAR
VERSION:2.0
PRODID:https://github.com/derhansen/sf_event_mgt
METHOD:PUBLISH
BEGIN:VEVENT
UID:346-148@sems.ch
CLASS: PUBLIC
SUMMARY:35. Mediweek Davos
DESCRIPTION:
LOCATION:Davos
DTSTAMP:20210617T122454Z
DTSTART:20210705T093400Z
DTEND:20210709T122000Z
END:VEVENT
END:VCALENDAR
