BEGIN:VCALENDAR
VERSION:2.0
PRODID:https://github.com/derhansen/sf_event_mgt
METHOD:PUBLISH
BEGIN:VEVENT
UID:622-148@sems.ch
CLASS: PUBLIC
SUMMARY:39. Mediweek Davos
DESCRIPTION:
LOCATION:Davos
DTSTAMP:20250505T145250Z
DTSTART:20250630T060000Z
DTEND:20250704T110000Z
END:VEVENT
END:VCALENDAR
