BEGIN:VCALENDAR
VERSION:2.0
PRODID:https://github.com/derhansen/sf_event_mgt
METHOD:PUBLISH
BEGIN:VEVENT
UID:340-148@sems.ch
CLASS: PUBLIC
SUMMARY:5. Jahrestagung Swiss Sports Nutrition Society
DESCRIPTION:
LOCATION:online
DTSTAMP:20210809T130854Z
DTSTART:20210610T093400Z
DTEND:20210610T130800Z
END:VEVENT
END:VCALENDAR
