BEGIN:VCALENDAR
VERSION:2.0
PRODID:https://github.com/derhansen/sf_event_mgt
METHOD:PUBLISH
BEGIN:VEVENT
UID:461-148@sems.ch
CLASS: PUBLIC
SUMMARY:7th Basel Elbow Course
DESCRIPTION:
LOCATION:Basel
DTSTAMP:20221223T160706Z
DTSTART:20230113T124600Z
DTEND:20230114T134600Z
END:VEVENT
END:VCALENDAR
