BEGIN:VCALENDAR
VERSION:2.0
PRODID:https://github.com/derhansen/sf_event_mgt
METHOD:PUBLISH
BEGIN:VEVENT
UID:435-148@sems.ch
CLASS: PUBLIC
SUMMARY:9. Fachfortbildung Sportmedizin auf Teneriffa
DESCRIPTION:
LOCATION:Teneriffa
DTSTAMP:20220718T102331Z
DTSTART:20230311T122800Z
DTEND:20230318T132800Z
END:VEVENT
END:VCALENDAR
