BEGIN:VCALENDAR
VERSION:2.0
PRODID:https://github.com/derhansen/sf_event_mgt
METHOD:PUBLISH
BEGIN:VEVENT
UID:647-148@sems.ch
CLASS: PUBLIC
SUMMARY:9th Basel Elbow Course 2025
DESCRIPTION:
LOCATION:Basel
DTSTAMP:20250505T144639Z
DTSTART:20250507T130000Z
DTEND:20250509T153000Z
END:VEVENT
END:VCALENDAR
