BEGIN:VCALENDAR
VERSION:2.0
PRODID:https://github.com/derhansen/sf_event_mgt
METHOD:PUBLISH
BEGIN:VEVENT
UID:465-148@sems.ch
CLASS: PUBLIC
SUMMARY:Angewandte Sportmedizin: Ausgewählte (sport-)pädiatrische Aspekte
DESCRIPTION:
LOCATION:Köln
DTSTAMP:20221223T162311Z
DTSTART:20230421T114600Z
DTEND:20230422T124600Z
END:VEVENT
END:VCALENDAR
