BEGIN:VCALENDAR
VERSION:2.0
PRODID:https://github.com/derhansen/sf_event_mgt
METHOD:PUBLISH
BEGIN:VEVENT
UID:514-148@sems.ch
CLASS: PUBLIC
SUMMARY:CAS Sporternährung - Modul 2
DESCRIPTION:
LOCATION:Magglingen
DTSTAMP:20230825T120107Z
DTSTART:20231124T125800Z
DTEND:20231126T135800Z
END:VEVENT
END:VCALENDAR
