BEGIN:VCALENDAR
VERSION:2.0
PRODID:https://github.com/derhansen/sf_event_mgt
METHOD:PUBLISH
BEGIN:VEVENT
UID:86-148@sems.ch
CLASS: PUBLIC
SUMMARY:CAS Sporternährung - Modul 7
DESCRIPTION:
LOCATION:Magglingen
DTSTAMP:20190501T085903Z
DTSTART:20200524T083200Z
DTEND:20200526T083200Z
END:VEVENT
END:VCALENDAR
