BEGIN:VCALENDAR
VERSION:2.0
PRODID:https://github.com/derhansen/sf_event_mgt
METHOD:PUBLISH
BEGIN:VEVENT
UID:595-148@sems.ch
CLASS: PUBLIC
SUMMARY:CAS Sporternährung
DESCRIPTION:
LOCATION:Magglingen
DTSTAMP:20240806T094242Z
DTSTART:20250901T100000Z
DTEND:20250630T100000Z
END:VEVENT
END:VCALENDAR
