BEGIN:VCALENDAR
VERSION:2.0
PRODID:https://github.com/derhansen/sf_event_mgt
METHOD:PUBLISH
BEGIN:VEVENT
UID:142-148@sems.ch
CLASS: PUBLIC
SUMMARY:Colloque de médecine du Sport aux HUG - Traumatologie du Sport
DESCRIPTION:
LOCATION:Genève
DTSTAMP:20210809T091616Z
DTSTART:20190620T101500Z
DTEND:20190620T091600Z
END:VEVENT
END:VCALENDAR
