BEGIN:VCALENDAR
VERSION:2.0
PRODID:https://github.com/derhansen/sf_event_mgt
METHOD:PUBLISH
BEGIN:VEVENT
UID:606-148@sems.ch
CLASS: PUBLIC
SUMMARY:D-A-CH Kongress 2024
DESCRIPTION:
LOCATION:St. Gallen
DTSTAMP:20241015T144337Z
DTSTART:20241108T123000Z
DTEND:20241109T140000Z
END:VEVENT
END:VCALENDAR
