BEGIN:VCALENDAR
VERSION:2.0
PRODID:https://github.com/derhansen/sf_event_mgt
METHOD:PUBLISH
BEGIN:VEVENT
UID:6-148@sems.ch
CLASS: PUBLIC
SUMMARY:Entorse de la cheville: À ne pas banaliser
DESCRIPTION:
LOCATION:Lausanne
DTSTAMP:20181105T104610Z
DTSTART:20181102T132953Z
DTEND:20181102T132953Z
END:VEVENT
END:VCALENDAR
