BEGIN:VCALENDAR
VERSION:2.0
PRODID:https://github.com/derhansen/sf_event_mgt
METHOD:PUBLISH
BEGIN:VEVENT
UID:338-148@sems.ch
CLASS: PUBLIC
SUMMARY:Evaluation en MPR
DESCRIPTION:
LOCATION:online
DTSTAMP:20210809T130452Z
DTSTART:20210325T103100Z
DTEND:20210325T140400Z
END:VEVENT
END:VCALENDAR
