BEGIN:VCALENDAR
VERSION:2.0
PRODID:https://github.com/derhansen/sf_event_mgt
METHOD:PUBLISH
BEGIN:VEVENT
UID:136-148@sems.ch
CLASS: PUBLIC
SUMMARY:Fachsymposium Sportpsychiatrie und -psychotherapie im Hoch-/Leistun
 gssport
DESCRIPTION:
LOCATION:Münchenbuchsee
DTSTAMP:20210809T091731Z
DTSTART:20190823T101500Z
DTEND:20190823T091700Z
END:VEVENT
END:VCALENDAR
