BEGIN:VCALENDAR
VERSION:2.0
PRODID:https://github.com/derhansen/sf_event_mgt
METHOD:PUBLISH
BEGIN:VEVENT
UID:112-148@sems.ch
CLASS: PUBLIC
SUMMARY:F.A.M.E. speciality day: Der Bewegungsapparat und Sport im Alter
DESCRIPTION:
LOCATION:Basel
DTSTAMP:20210809T091324Z
DTSTART:20190516T120400Z
DTEND:20190516T091300Z
END:VEVENT
END:VCALENDAR
