BEGIN:VCALENDAR
VERSION:2.0
PRODID:https://github.com/derhansen/sf_event_mgt
METHOD:PUBLISH
BEGIN:VEVENT
UID:248-148@sems.ch
CLASS: PUBLIC
SUMMARY:Femmes et sport
DESCRIPTION:
LOCATION:Genève
DTSTAMP:20210809T095210Z
DTSTART:20200326T131600Z
DTEND:20200326T105200Z
END:VEVENT
END:VCALENDAR
