BEGIN:VCALENDAR
VERSION:2.0
PRODID:https://github.com/derhansen/sf_event_mgt
METHOD:PUBLISH
BEGIN:VEVENT
UID:274-148@sems.ch
CLASS: PUBLIC
SUMMARY:FIRST Regenerative Spine Symposium
DESCRIPTION:
LOCATION:Zürich
DTSTAMP:20200716T135033Z
DTSTART:20201105T150600Z
DTEND:20201106T150600Z
END:VEVENT
END:VCALENDAR
