BEGIN:VCALENDAR
VERSION:2.0
PRODID:https://github.com/derhansen/sf_event_mgt
METHOD:PUBLISH
BEGIN:VEVENT
UID:348-148@sems.ch
CLASS: PUBLIC
SUMMARY:Formation post-graduée MPR
DESCRIPTION:
LOCATION:Lausanne
DTSTAMP:20210809T131105Z
DTSTART:20210617T093400Z
DTEND:20210617T131000Z
END:VEVENT
END:VCALENDAR
