BEGIN:VCALENDAR
VERSION:2.0
PRODID:https://github.com/derhansen/sf_event_mgt
METHOD:PUBLISH
BEGIN:VEVENT
UID:711-148@sems.ch
CLASS: PUBLIC
SUMMARY:Gebirgsmedizinbasiskurs Winter 2026
DESCRIPTION:
LOCATION:Disentis
DTSTAMP:20260112T105312Z
DTSTART:20260307T105100Z
DTEND:20260313T115100Z
END:VEVENT
END:VCALENDAR
