BEGIN:VCALENDAR
VERSION:2.0
PRODID:https://github.com/derhansen/sf_event_mgt
METHOD:PUBLISH
BEGIN:VEVENT
UID:268-148@sems.ch
CLASS: PUBLIC
SUMMARY:Herausforderung Sportverletzung Knie
DESCRIPTION:
LOCATION:Bern
DTSTAMP:20210809T125728Z
DTSTART:20201010T140600Z
DTEND:20201010T125700Z
END:VEVENT
END:VCALENDAR
