BEGIN:VCALENDAR
VERSION:2.0
PRODID:https://github.com/derhansen/sf_event_mgt
METHOD:PUBLISH
BEGIN:VEVENT
UID:685-148@sems.ch
CLASS: PUBLIC
SUMMARY:Jahrestagung 2026 - Gesellschaft Pädiatrische Sportmedizin
DESCRIPTION:
LOCATION:Zürich
DTSTAMP:20250815T122335Z
DTSTART:20260313T132000Z
DTEND:20260315T142000Z
END:VEVENT
END:VCALENDAR
