BEGIN:VCALENDAR
VERSION:2.0
PRODID:https://github.com/derhansen/sf_event_mgt
METHOD:PUBLISH
BEGIN:VEVENT
UID:342-148@sems.ch
CLASS: PUBLIC
SUMMARY:Journée Romande d'Hypertension et Sport
DESCRIPTION:
LOCATION:Morges
DTSTAMP:20210809T130833Z
DTSTART:20210603T093400Z
DTEND:20210603T130800Z
END:VEVENT
END:VCALENDAR
