BEGIN:VCALENDAR
VERSION:2.0
PRODID:https://github.com/derhansen/sf_event_mgt
METHOD:PUBLISH
BEGIN:VEVENT
UID:162-148@sems.ch
CLASS: PUBLIC
SUMMARY:Le lesioni legamentose di ginocchio: dal trauma, alla chirurgia, al
  ritorno allo sport
DESCRIPTION:
LOCATION:Lugano
DTSTAMP:20190712T072543Z
DTSTART:20190927T145000Z
DTEND:20190928T145000Z
END:VEVENT
END:VCALENDAR
