BEGIN:VCALENDAR
VERSION:2.0
PRODID:https://github.com/derhansen/sf_event_mgt
METHOD:PUBLISH
BEGIN:VEVENT
UID:92-148@sems.ch
CLASS: PUBLIC
SUMMARY:Mediweek
DESCRIPTION:
LOCATION:Davos
DTSTAMP:20190213T081748Z
DTSTART:20190629T083200Z
DTEND:20190705T083200Z
END:VEVENT
END:VCALENDAR
