BEGIN:VCALENDAR
VERSION:2.0
PRODID:https://github.com/derhansen/sf_event_mgt
METHOD:PUBLISH
BEGIN:VEVENT
UID:708-148@sems.ch
CLASS: PUBLIC
SUMMARY:Muscle Injuries
DESCRIPTION:
LOCATION:Bern
DTSTAMP:20260108T154016Z
DTSTART:20260108T153600Z
DTEND:20260108T163600Z
END:VEVENT
END:VCALENDAR
