BEGIN:VCALENDAR
VERSION:2.0
PRODID:https://github.com/derhansen/sf_event_mgt
METHOD:PUBLISH
BEGIN:VEVENT
UID:608-148@sems.ch
CLASS: PUBLIC
SUMMARY:MyoFasziale Triggerpunkt-Therapie A1 Kurs
DESCRIPTION:
LOCATION:Murten
DTSTAMP:20250505T145319Z
DTSTART:20250626T060000Z
DTEND:20250629T130000Z
END:VEVENT
END:VCALENDAR
